BEGIN:VCALENDAR
VERSION:2.0
PRODID:-//Bananas Records - ECPv6.11.2.1//NONSGML v1.0//EN
CALSCALE:GREGORIAN
METHOD:PUBLISH
X-WR-CALNAME:Bananas Records
X-ORIGINAL-URL:https://bananas.sunspiredweb.com
X-WR-CALDESC:Events for Bananas Records
REFRESH-INTERVAL;VALUE=DURATION:PT1H
X-Robots-Tag:noindex
X-PUBLISHED-TTL:PT1H
BEGIN:VTIMEZONE
TZID:America/New_York
BEGIN:DAYLIGHT
TZOFFSETFROM:-0500
TZOFFSETTO:-0400
TZNAME:EDT
DTSTART:20230312T070000
END:DAYLIGHT
BEGIN:STANDARD
TZOFFSETFROM:-0400
TZOFFSETTO:-0500
TZNAME:EST
DTSTART:20231105T060000
END:STANDARD
END:VTIMEZONE
BEGIN:VEVENT
DTSTART;TZID=America/New_York:20230422T090000
DTEND;TZID=America/New_York:20230422T190000
DTSTAMP:20260419T101852
CREATED:20230124T173838Z
LAST-MODIFIED:20230412T130320Z
UID:4078-1682154000-1682190000@bananas.sunspiredweb.com
SUMMARY:Record Store Day 2023
DESCRIPTION:Mark your calendars!!!\nJoin us for Record Store Day 2023!!!  Saturday\, April 22nd\nBananas will have bands\, food\, drinks\, lots of fun activities\, and of course all the RSD exclusive releases for ya.  Come back here or visit us on Instagram for updates.\nLineup:\n9 A.M. DJ Suspiria \n11 A.M. The Vultures \n12 P.M. Blonde Gentlemen \n1 P.M. Johnstonsons \n2 P.M. King Bee \n3 P.M. Someattics \n4 P.M. Peace Cult \n5 P.M. Skinner Follie \nVendors:\nNah Dogs \nSun Bear Specialty Coffee Roasters \nExtra Medium Shirts
URL:https://bananas.sunspiredweb.com/event/record-store-day-2023/
LOCATION:Bananas Records Store\, 2887 22nd Ave N\, Saint Petersburg\, FL\, 33713\, United States
CATEGORIES:Community,Performances
ATTACH;FMTTYPE=image/jpeg:https://bananas.sunspiredweb.com/wp-content/uploads/wethreeclub_banner.jpg
ORGANIZER;CN="Bananas Records":MAILTO:bananasrecordstore@gmail.com
END:VEVENT
END:VCALENDAR